BEGIN:VCALENDAR
VERSION:2.0
PRODID:-//hacksw/handcal//NONSGML v1.0//EN
CALSCALE:GREGORIAN
BEGIN:VEVENT
UID:171
DTSTAMP:20260421T083502Z
DESCRIPTION:PNW Meetup Southern Oregon.  23 - 25 May 2026.  70 Series Meetup. Get to know other Land Cruiser 70 Series Enthusiasts on the West Coast / Pacific Northwest.
DTSTART;VALUE=DATE:20260523
LOCATION:Selma\, Oregon
SUMMARY:PNW Meetup Southern Oregon
URL;VALUE=URI:https://forum.ih8mud.com/events/pnw-meetup-southern-oregon.171/
PARTICIPATION:NEEDS-ACTION
END:VEVENT
END:VCALENDAR