BEGIN:VCALENDAR
VERSION:2.0
PRODID:-//hacksw/handcal//NONSGML v1.0//EN
CALSCALE:GREGORIAN
BEGIN:VEVENT
UID:147
DTSTAMP:20260421T122123Z
DESCRIPTION:Come on out for tacos\, beer\,  and Land Cruisers.  We meet at the Original Mexican Restaurant 6406 Horspen Rd. Meeting starts at 7p and runs till 9p.  always a few folks that are early and always a few folks that stay a tad later..  See our club page for up to date information
DTSTART:20250311T230000Z
DTEND:20250312T010000Z
LOCATION:6406 Horsepen Road\, Richmond\, VA\, USA
SUMMARY:Bay to Blue Ridge Cruisers Monthly Meeting
URL;VALUE=URI:https://forum.ih8mud.com/events/bay-to-blue-ridge-cruisers-monthly-meeting.147/
PARTICIPATION:NEEDS-ACTION
END:VEVENT
BEGIN:VEVENT
UID:171
DTSTAMP:20260421T122123Z
DESCRIPTION:PNW Meetup Southern Oregon.  23 - 25 May 2026.  70 Series Meetup. Get to know other Land Cruiser 70 Series Enthusiasts on the West Coast / Pacific Northwest.
DTSTART;VALUE=DATE:20260523
LOCATION:Selma\, Oregon
SUMMARY:PNW Meetup Southern Oregon
URL;VALUE=URI:https://forum.ih8mud.com/events/pnw-meetup-southern-oregon.171/
PARTICIPATION:NEEDS-ACTION
END:VEVENT
BEGIN:VEVENT
UID:170
DTSTAMP:20260421T122123Z
DESCRIPTION:[B]Fourth Annual ColoYota Expo[/B]
Saturday\, May 30\, 2026 - 10AM – 2PM
Jefferson County Fairgrounds - Golden\, Colorado
Admission: $5

All the details at [URL='https://coloyotaexpo.com/']coloyotaexpo.com[/URL]

[IMG size="500x650"]https://risingsun4x4club.org/xf/data/attachments/132/132947-3e12b1e353d96219193c9b4cef98eca2.jpg[/IMG]
DTSTART:20260530T160000Z
DTEND:20260530T200000Z
LOCATION:Golden\, Colorado
SUMMARY:ColoYota Expo
URL;VALUE=URI:https://forum.ih8mud.com/events/coloyota-expo.170/
PARTICIPATION:NEEDS-ACTION
END:VEVENT
BEGIN:VEVENT
UID:168
DTSTAMP:20260421T122123Z
DESCRIPTION:Razorback Land Cruisers Host - Razorback Ramble @ Hot Springs Offroad Park in Hot Springs\, AR - Book Lodging and camping early to ensure you get a spot!
DTSTART;VALUE=DATE:20260604
LOCATION:Hot Springs\, Arkansas
SUMMARY:Razorback Ramble
URL;VALUE=URI:https://forum.ih8mud.com/events/razorback-ramble.168/
PARTICIPATION:NEEDS-ACTION
END:VEVENT
BEGIN:VEVENT
UID:158
DTSTAMP:20260421T122123Z
DESCRIPTION:Open to all Land Cruisers and their Lexus cousins. See [URL='http://www.CruiserFiesta.com']www.CruiserFiesta.com[/URL] for additional details and tickets.

[ATTACH type="full"]3930116[/ATTACH]
DTSTART:20251115T010000Z
DTEND:20251117T000000Z
LOCATION:San Felipe\, Baja California\, Mexico
SUMMARY:Cruiser Fiesta
URL;VALUE=URI:https://forum.ih8mud.com/events/cruiser-fiesta.158/
PARTICIPATION:NEEDS-ACTION
END:VEVENT
END:VCALENDAR