BEGIN:VCALENDAR
VERSION:2.0
PRODID:-//hacksw/handcal//NONSGML v1.0//EN
CALSCALE:GREGORIAN
BEGIN:VEVENT
UID:172
DTSTAMP:20260421T083501Z
DESCRIPTION:Join us for our annual Rally and Swap Meet. Same place as usual Chuy's on Rosedale Hwy.
8-12 

[ATTACH type="full" size="1188x1531"]4119221[/ATTACH]
DTSTART:20260418T150000Z
DTEND:20260418T190000Z
LOCATION:Bakersfield\, CA
SUMMARY:Bakersfield Swap Meet 2026
URL;VALUE=URI:https://forum.ih8mud.com/events/bakersfield-swap-meet-2026.172/
PARTICIPATION:NEEDS-ACTION
END:VEVENT
END:VCALENDAR